BEGIN:VCALENDAR
VERSION:2.0
PRODID:-//Tukios.com/
BEGIN:VEVENT
UID:a87e9c83-368f-4470-9ea0-89350aa53824@www.mcadamsmortuary.com
DTSTAMP:20260420T212226Z
DTSTART:20260423T150000Z
DTEND:20260423T170000Z
SUMMARY:Visitation
DESCRIPTION:
URL:https://www.mcadamsmortuary.com/obituaries/wanda-smith
LOCATION:McAdams Mortuary 500 S. W. 1st St.  Paoli IN 47454
GEO:38.5504768;-86.4707471
END:VEVENT
END:VCALENDAR