BEGIN:VCALENDAR
VERSION:2.0
PRODID:-//Tukios.com/
BEGIN:VEVENT
UID:6190717f-b5a9-4e4d-9eb0-d811a34484da@www.mcadamsmortuary.com
DTSTAMP:20260420T211907Z
DTSTART:20260423T170000Z
DTEND:20260423T180000Z
SUMMARY:Funeral Service
DESCRIPTION:
URL:https://www.mcadamsmortuary.com/obituaries/wanda-smith
LOCATION:McAdams Mortuary 500 S. W. 1st St.  Paoli IN 47454
GEO:38.5504768;-86.4707471
END:VEVENT
END:VCALENDAR